BEGIN:VCALENDAR
VERSION:2.0
PRODID:-//ChamberMaster//Event Calendar 2.0//EN
METHOD:PUBLISH
X-PUBLISHED-TTL:P3D
REFRESH-INTERVAL:P3D
CALSCALE:GREGORIAN
BEGIN:VEVENT
DTSTART:20120816T200000Z
DTEND:20120816T203000Z
X-MICROSOFT-CDO-ALLDAYEVENT:FALSE
SUMMARY:Ribbon Cutting & Grand Opening for Essentially Massage
DESCRIPTION:Come celebrate the Grand Opening and Ribbon Cutting of Essentially Massage!
X-ALT-DESC;FMTTYPE=text/html:Come celebrate the Grand&nbsp\;Opening and Ribbon Cutting&nbsp\;of Essentially Massage!
LOCATION:Essentially Massage 10153 University Ave. NE Ste. # 203 Blaine\, MN 55434
UID:e.380.145329
SEQUENCE:3
DTSTAMP:20260425T125555Z
URL:http://members.metronorthchamber.org/events/details/ribbon-cutting-grand-opening-for-essentially-massage-08-16-2012-145329
END:VEVENT

END:VCALENDAR
