BEGIN:VCALENDAR
VERSION:2.0
PRODID:-//ChamberMaster//Event Calendar 2.0//EN
METHOD:PUBLISH
X-PUBLISHED-TTL:P3D
REFRESH-INTERVAL:P3D
CALSCALE:GREGORIAN
BEGIN:VEVENT
DTSTART:20140306T220000Z
DTEND:20140306T223000Z
X-MICROSOFT-CDO-ALLDAYEVENT:FALSE
SUMMARY:Ribbon Cutting & Grand Opening for Edgewood Senior Living
DESCRIPTION:Please come celebrate with us the ribbon cutting and grand opening of Edgewood Senior Living!  Enjoy music and refreshments as we welcome them to the community. \n\n\n\nThis ribbon cutting will be held promptly 4 pm. \n\n\n\nAmbassador Team 1
X-ALT-DESC;FMTTYPE=text/html:Please come celebrate with us the ribbon cutting and grand opening of Edgewood Senior Living!&nbsp\; Enjoy music and refreshments as we welcome them to the community.&nbsp\;<br />\n<br />\nThis ribbon cutting will be held promptly 4 pm.&nbsp\;<br />\n<br />\nAmbassador Team 1
LOCATION:12450 Cloud Dr. NE Blaine\, MN 55449
UID:e.380.150014
SEQUENCE:3
DTSTAMP:20260424T062743Z
URL:http://members.metronorthchamber.org/events/details/ribbon-cutting-grand-opening-for-edgewood-senior-living-03-06-2014-150014
END:VEVENT

END:VCALENDAR
