BEGIN:VCALENDAR
VERSION:2.0
PRODID:-//ChamberMaster//Event Calendar 2.0//EN
METHOD:PUBLISH
X-PUBLISHED-TTL:P3D
REFRESH-INTERVAL:P3D
CALSCALE:GREGORIAN
BEGIN:VEVENT
DTSTART:20140826T210000Z
DTEND:20140826T213000Z
X-MICROSOFT-CDO-ALLDAYEVENT:FALSE
SUMMARY:Ribbon Cutting & Grand Opening for Diggity
DESCRIPTION:Please come celebrate with us the Grand Opening and Ribbon Cutting of Diggity!!
X-ALT-DESC;FMTTYPE=text/html:Please come celebrate with us the Grand Opening and Ribbon Cutting of Diggity!!
LOCATION:133 Coon Rapids Blvd. NW Coon Rapids\, MN 55433
UID:e.380.151516
SEQUENCE:3
DTSTAMP:20260423T222400Z
URL:http://members.metronorthchamber.org/events/details/ribbon-cutting-grand-opening-for-diggity-08-26-2014-151516
END:VEVENT

END:VCALENDAR
