BEGIN:VCALENDAR
VERSION:2.0
PRODID:-//ChamberMaster//Event Calendar 2.0//EN
METHOD:PUBLISH
X-PUBLISHED-TTL:P3D
REFRESH-INTERVAL:P3D
CALSCALE:GREGORIAN
BEGIN:VEVENT
DTSTART:20190329T203000Z
DTEND:20190329T213000Z
X-MICROSOFT-CDO-ALLDAYEVENT:FALSE
SUMMARY:Ribbon Cutting & Grand Opening-Club Pilates Blaine
DESCRIPTION:Join us for a grand opening and ribbon cutting for Club Pilates Blaine. To celebrate\, they are offering 20% off your first three months of membership. This offer is only available through the grand opening. Refreshments will be served\, and ribbon will be cut at 4:15 pm.
X-ALT-DESC;FMTTYPE=text/html:Join us for a grand opening and ribbon cutting for Club Pilates Blaine. To celebrate\, they are offering 20% off your first three months of membership. This offer is only available through the grand opening. Refreshments will be served\, and ribbon will be cut at 4:15 pm.
LOCATION:Club Pilates Blaine 10945 Club West Parkway\, Suite 150 Blaine 55449
UID:e.380.188498
SEQUENCE:3
DTSTAMP:20260420T060757Z
URL:http://members.metronorthchamber.org/events/details/ribbon-cutting-grand-opening-club-pilates-blaine-188498
END:VEVENT

END:VCALENDAR
