BEGIN:VCALENDAR
VERSION:2.0
PRODID:-//ChamberMaster//Event Calendar 2.0//EN
METHOD:PUBLISH
X-PUBLISHED-TTL:P3D
REFRESH-INTERVAL:P3D
CALSCALE:GREGORIAN
BEGIN:VEVENT
DTSTART:20160713T220000Z
DTEND:20160713T230000Z
X-MICROSOFT-CDO-ALLDAYEVENT:FALSE
SUMMARY:Ribbon Cutting - Gordmans
DESCRIPTION:Gordmans Will be holding a ribbon cutting with the MetroNorth Chamber to celebrate the grand opening of their store in Coon Rapids.
X-ALT-DESC;FMTTYPE=text/html:Gordmans Will be holding a ribbon cutting with the MetroNorth&nbsp\;Chamber to celebrate the grand opening of their store in Coon Rapids.
LOCATION:Gordmans 3340 124th Avenue NW Coon Rapids\, MN 55433
UID:e.380.168496
SEQUENCE:3
DTSTAMP:20260422T092234Z
URL:http://members.metronorthchamber.org/events/details/ribbon-cutting-gordmans-07-13-2016-168496
END:VEVENT

END:VCALENDAR
