BEGIN:VCALENDAR
VERSION:2.0
PRODID:-//ChamberMaster//Event Calendar 2.0//EN
METHOD:PUBLISH
X-PUBLISHED-TTL:P3D
REFRESH-INTERVAL:P3D
CALSCALE:GREGORIAN
BEGIN:VEVENT
DTSTART:20170504T170000Z
DTEND:20170504T174500Z
X-MICROSOFT-CDO-ALLDAYEVENT:FALSE
SUMMARY:Ribbon Cutting - Glow in One Mini Golf
DESCRIPTION:Glow In One Mini Golf - Ribbon Cutting to celebrate their Grand Opening.\n\nFREE Mini Golf for guests!
X-ALT-DESC;FMTTYPE=text/html:Glow In One Mini Golf - Ribbon Cutting to celebrate their Grand Opening.<br />\nFREE Mini Golf for guests!&nbsp\;
LOCATION:Glow In One Mini Golf 12579 Central Avenue NE Blaine\, MN 55434
UID:e.380.172021
SEQUENCE:3
DTSTAMP:20260421T170503Z
URL:http://members.metronorthchamber.org/events/details/ribbon-cutting-glow-in-one-mini-golf-172021
END:VEVENT

END:VCALENDAR
