BEGIN:VCALENDAR
VERSION:2.0
PRODID:-//ChamberMaster//Event Calendar 2.0//EN
METHOD:PUBLISH
X-PUBLISHED-TTL:P3D
REFRESH-INTERVAL:P3D
CALSCALE:GREGORIAN
BEGIN:VEVENT
DTSTART:20160518T211500Z
DTEND:20160518T214500Z
X-MICROSOFT-CDO-ALLDAYEVENT:FALSE
SUMMARY:Ribbon Cutting - Garage Doors Plus
DESCRIPTION:Help Celebrate the Ribbon Cutting of Garage Doors Plus LLC. They will be serving wings and other refreshments from The Well.
X-ALT-DESC;FMTTYPE=text/html:Help Celebrate the Ribbon Cutting of Garage Doors Plus LLC. They will be serving wings and other refreshments from The Well.
LOCATION:Garage Doors Plus LLC 18429 Highway 65 NE Cedar\, MN 55001
UID:e.380.168203
SEQUENCE:3
DTSTAMP:20260422T120226Z
URL:http://members.metronorthchamber.org/events/details/ribbon-cutting-garage-doors-plus-05-18-2016-168203
END:VEVENT

END:VCALENDAR
