BEGIN:VCALENDAR
VERSION:2.0
PRODID:-//ChamberMaster//Event Calendar 2.0//EN
METHOD:PUBLISH
X-PUBLISHED-TTL:P3D
REFRESH-INTERVAL:P3D
CALSCALE:GREGORIAN
BEGIN:VEVENT
DTSTART:20190104T150000Z
DTEND:20190104T151500Z
X-MICROSOFT-CDO-ALLDAYEVENT:FALSE
SUMMARY:Ribbon Cutting - Freedom Cleaning
DESCRIPTION:Ribbon Cutting for Freedom Cleaning!\n\nJoin Us to Celebrate Freedom Cleanings' 14th Year in Business.
X-ALT-DESC;FMTTYPE=text/html:Ribbon Cutting for Freedom Cleaning!<br />\nJoin Us to Celebrate Freedom Cleanings&#39\; 14th Year in Business.
LOCATION:After Sunrise
UID:e.380.187525
SEQUENCE:3
DTSTAMP:20260420T091257Z
URL:http://members.metronorthchamber.org/events/details/ribbon-cutting-freedom-cleaning-187525
END:VEVENT

END:VCALENDAR
