BEGIN:VCALENDAR
VERSION:2.0
PRODID:-//ChamberMaster//Event Calendar 2.0//EN
METHOD:PUBLISH
X-PUBLISHED-TTL:P3D
REFRESH-INTERVAL:P3D
CALSCALE:GREGORIAN
BEGIN:VEVENT
DTSTART:20191223T220000Z
DTEND:20191223T230000Z
X-MICROSOFT-CDO-ALLDAYEVENT:FALSE
SUMMARY:Ribbon Cutting for X Golf of Blaine
DESCRIPTION:Come join us as we celebrate the grand opening of new member\, X Golf of Blaine. There will be half-price food and half-price drinks available. Ribbon will be cut at 4:15 pm.
X-ALT-DESC;FMTTYPE=text/html:Come join us as we celebrate the grand opening of new member\, X Golf of Blaine. There will be half-price food and half-price drinks available. Ribbon will be cut at 4:15 pm.
LOCATION:298 Northtown Drive NE Blaine 55434
UID:e.380.191755
SEQUENCE:3
DTSTAMP:20260419T142750Z
URL:http://members.metronorthchamber.org/events/details/ribbon-cutting-for-x-golf-of-blaine-191755
END:VEVENT

END:VCALENDAR
