BEGIN:VCALENDAR
VERSION:2.0
PRODID:-//ChamberMaster//Event Calendar 2.0//EN
METHOD:PUBLISH
X-PUBLISHED-TTL:P3D
REFRESH-INTERVAL:P3D
CALSCALE:GREGORIAN
BEGIN:VEVENT
DTSTART:20140515T210000Z
DTEND:20140515T213000Z
X-MICROSOFT-CDO-ALLDAYEVENT:FALSE
SUMMARY:Ribbon Cutting for Wells Fargo Home Mortgage in Ramsey
DESCRIPTION:Please come celebrate the ribbon cutting / new location of Wells Fargo Home Mortgage in Ramsey!
X-ALT-DESC;FMTTYPE=text/html:Please come celebrate the&nbsp\;ribbon cutting&nbsp\;/&nbsp\;new location of Wells Fargo Home Mortgage in Ramsey!
LOCATION:The Arthur Grant Real Estate Office 14245 St. Francis Blvd. Ste # 103 Ramsey\, MN 55303
UID:e.380.151252
SEQUENCE:3
DTSTAMP:20260424T044624Z
URL:http://members.metronorthchamber.org/events/details/ribbon-cutting-for-wells-fargo-home-mortgage-in-ramsey-05-15-2014-151252
END:VEVENT

END:VCALENDAR
