BEGIN:VCALENDAR
VERSION:2.0
PRODID:-//ChamberMaster//Event Calendar 2.0//EN
METHOD:PUBLISH
X-PUBLISHED-TTL:P3D
REFRESH-INTERVAL:P3D
CALSCALE:GREGORIAN
BEGIN:VEVENT
DTSTART:20191023T203000Z
DTEND:20191023T230000Z
X-MICROSOFT-CDO-ALLDAYEVENT:FALSE
SUMMARY:Ribbon Cutting for Wausau Homes
DESCRIPTION:You are invited to new member Wausau Homes VIP Grand Opening and Ribbon Cutting. Stop by their brand new\, state-of-the-art Design Studio and learn how they are building dream homes. There will be food\, fun and special prizes! Ribbon will be cut at 4:15 pm.
X-ALT-DESC;FMTTYPE=text/html:You are invited to new member Wausau Homes VIP Grand Opening and Ribbon Cutting. Stop by their brand new\, state-of-the-art Design Studio and learn how they are building dream homes. There will be food\, fun and special prizes! Ribbon will be cut at 4:15 pm.<br />\n<br />\n&nbsp\;
LOCATION:2850 Cutters Grove Avenue Anoka 55303
UID:e.380.191460
SEQUENCE:3
DTSTAMP:20260419T180730Z
URL:http://members.metronorthchamber.org/events/details/ribbon-cutting-for-wausau-homes-191460
END:VEVENT

END:VCALENDAR
