BEGIN:VCALENDAR
VERSION:2.0
PRODID:-//ChamberMaster//Event Calendar 2.0//EN
METHOD:PUBLISH
X-PUBLISHED-TTL:P3D
REFRESH-INTERVAL:P3D
CALSCALE:GREGORIAN
BEGIN:VEVENT
DTSTART:20130814T123000Z
DTEND:20130814T130000Z
X-MICROSOFT-CDO-ALLDAYEVENT:FALSE
SUMMARY:Ribbon Cutting for Walmart - Blaine North
DESCRIPTION:Come celebrate with us the grand opening of Walmart - Blaine North!
X-ALT-DESC;FMTTYPE=text/html:Come celebrate with us the grand opening of Walmart - Blaine North!
LOCATION:11505 Ulysses St. NE Blaine\, MN 55434
UID:e.380.149304
SEQUENCE:3
DTSTAMP:20260424T193032Z
URL:http://members.metronorthchamber.org/events/details/ribbon-cutting-for-walmart-blaine-north-08-14-2013-149304
END:VEVENT

END:VCALENDAR
