BEGIN:VCALENDAR
VERSION:2.0
PRODID:-//ChamberMaster//Event Calendar 2.0//EN
METHOD:PUBLISH
X-PUBLISHED-TTL:P3D
REFRESH-INTERVAL:P3D
CALSCALE:GREGORIAN
BEGIN:VEVENT
DTSTART:20111103T210000Z
DTEND:20111103T220000Z
X-MICROSOFT-CDO-ALLDAYEVENT:FALSE
SUMMARY:Ribbon Cutting for United Educators Credit Union
DESCRIPTION:Please join the Chamber as we welcome this new member!
X-ALT-DESC;FMTTYPE=text/html:Please join the Chamber as we welcome this new member!
LOCATION:11599 Robinson Dr. NW Coon Rapids\, MN 55433
UID:e.380.142839
SEQUENCE:3
DTSTAMP:20260426T033521Z
URL:http://members.metronorthchamber.org/events/details/ribbon-cutting-for-united-educators-credit-union-11-03-2011-142839
END:VEVENT

END:VCALENDAR
