BEGIN:VCALENDAR
VERSION:2.0
PRODID:-//ChamberMaster//Event Calendar 2.0//EN
METHOD:PUBLISH
X-PUBLISHED-TTL:P3D
REFRESH-INTERVAL:P3D
CALSCALE:GREGORIAN
BEGIN:VEVENT
DTSTART:20131218T180000Z
DTEND:20131218T183000Z
X-MICROSOFT-CDO-ALLDAYEVENT:FALSE
SUMMARY:Ribbon Cutting for U-Haul
DESCRIPTION:Come celebrate with us the ribbon cutting of U-Haul of Blaine!
X-ALT-DESC;FMTTYPE=text/html:Come celebrate with us the ribbon cutting of U-Haul of Blaine!<br />\n
LOCATION:U-Haul 9890 Hwy 65 NE Blaine\, MN 55434
UID:e.380.149930
SEQUENCE:3
DTSTAMP:20260424T111244Z
URL:http://members.metronorthchamber.org/events/details/ribbon-cutting-for-u-haul-12-18-2013-149930
END:VEVENT

END:VCALENDAR
