BEGIN:VCALENDAR
VERSION:2.0
PRODID:-//ChamberMaster//Event Calendar 2.0//EN
METHOD:PUBLISH
X-PUBLISHED-TTL:P3D
REFRESH-INTERVAL:P3D
CALSCALE:GREGORIAN
BEGIN:VEVENT
DTSTART:20130426T210000Z
DTEND:20130426T213000Z
X-MICROSOFT-CDO-ALLDAYEVENT:FALSE
SUMMARY:Ribbon Cutting for Trio Landscaping
DESCRIPTION:Please join us in celebrating a ribbon cutting for Trio Landscaping!! \n\n\n\nThe ribbon cutting for Trio Landscaping will take place at INI Bodywork & Wellness\, during INI's fourth annual Open House celebration.  There will be a great Barbeque and potluck to enjoy at INI from 3-7 p.m.\, with Trio Landscaping's ribbon cutting to be held promptly at 4 p.m.
X-ALT-DESC;FMTTYPE=text/html:Please join us in celebrating a ribbon cutting for Trio Landscaping!!&nbsp\;<br />\n<br />\nThe ribbon cutting for Trio Landscaping will take place at INI Bodywork &amp\; Wellness\, during INI&#39\;s fourth annual Open House celebration.&nbsp\; There will be a great Barbeque and potluck to enjoy at INI from 3-7 p.m.\, with Trio Landscaping&#39\;s ribbon cutting to be held promptly at 4 p.m.
LOCATION:INI Bodywork & Wellness 1061 109th Ave NE Blaine
UID:e.380.148741
SEQUENCE:3
DTSTAMP:20260425T002309Z
URL:http://members.metronorthchamber.org/events/details/ribbon-cutting-for-trio-landscaping-04-26-2013-148741
END:VEVENT

END:VCALENDAR
