BEGIN:VCALENDAR
VERSION:2.0
PRODID:-//ChamberMaster//Event Calendar 2.0//EN
METHOD:PUBLISH
X-PUBLISHED-TTL:P3D
REFRESH-INTERVAL:P3D
CALSCALE:GREGORIAN
BEGIN:VEVENT
DTSTART:20190808T203000Z
DTEND:20190808T220000Z
X-MICROSOFT-CDO-ALLDAYEVENT:FALSE
SUMMARY:Ribbon Cutting for Tradition Mortgage
DESCRIPTION:Join us in welcoming new member Tradition Mortgage to the MetroNorth Chamber! Ribbon will be cut at 3:45 pm\, and refreshments will follow.
X-ALT-DESC;FMTTYPE=text/html:Join us in welcoming new member Tradition Mortgage to the MetroNorth Chamber! Ribbon will be cut at 3:45 pm\, and refreshments will follow.
LOCATION:Tradition Mortgage 100 Village Center Drive\, Suite 244 North Oaks 55127
UID:e.380.190702
SEQUENCE:3
DTSTAMP:20260419T213117Z
URL:http://members.metronorthchamber.org/events/details/ribbon-cutting-for-tradition-mortgage-190702
END:VEVENT

END:VCALENDAR
