BEGIN:VCALENDAR
VERSION:2.0
PRODID:-//ChamberMaster//Event Calendar 2.0//EN
METHOD:PUBLISH
X-PUBLISHED-TTL:P3D
REFRESH-INTERVAL:P3D
CALSCALE:GREGORIAN
BEGIN:VEVENT
DTSTART:20181006T160000Z
DTEND:20181006T163000Z
X-MICROSOFT-CDO-ALLDAYEVENT:FALSE
SUMMARY:Ribbon Cutting for Tony's Place
DESCRIPTION:Please join us at 11:00 am on Saturday\, October 6\, for a ribbon cutting to celebrate the grand opening of Tony's Place.\n\n\n\nTony's Place is an Inclusive Play Place\, opening up at Northtown Mall in Blaine\, MN on October 1\, 2018. We are seeking support from the community in terms of donations and sponsorships to help put this together for our autism-affected and special abilities kids. We are also partnering with regional and local organizations to support the community with a safe environment that caters to kids with autism and other special needs in a play environment where all are welcome.\n\n\n\nOUR MISSION\n\nEmbracing children of all abilities in a play place where they can welcome others into their world.
X-ALT-DESC;FMTTYPE=text/html:Please join us at 11:00 am on Saturday\, October 6\, for a ribbon cutting to celebrate the grand opening of Tony&#39\;s Place.<br />\n<br />\n<span style="color:#1D2129\;">Tony&#39\;s Place is an Inclusive Play Place\, opening up at Northtown Mall in Blaine\, MN on October 1\, 2018. We are seeking support from the community in terms of donations and sponsorships to help put this together for our autism-affected and special abilities kids. We are also partnering with regional and local organizations to support the community with a safe environment that caters to kids with autism and other special needs in a play environment where all are welcome.</span><br />\n<br />\n<span style="color:#1D2129\;">OUR MISSION</span><br />\n<strong><span style="color:#1D2129\;">Embracing children of all abilities in a play place where they can welcome others into their world.</span></strong><br />\n&nbsp\;
LOCATION:Tony's Place 215 Northtown Drive NE Blaine 55434
UID:e.380.187282
SEQUENCE:3
DTSTAMP:20260420T141144Z
URL:http://members.metronorthchamber.org/events/details/ribbon-cutting-for-tony-s-place-187282
END:VEVENT

END:VCALENDAR
