BEGIN:VCALENDAR
VERSION:2.0
PRODID:-//ChamberMaster//Event Calendar 2.0//EN
METHOD:PUBLISH
X-PUBLISHED-TTL:P3D
REFRESH-INTERVAL:P3D
CALSCALE:GREGORIAN
BEGIN:VEVENT
DTSTART:20120918T130000Z
DTEND:20120918T140000Z
X-MICROSOFT-CDO-ALLDAYEVENT:FALSE
SUMMARY:Ribbon Cutting for The Original Mattress Factory - Riverdale
DESCRIPTION:Come share in the exciting ribbon cutting of The Original Mattress Factory - Riverdale!
X-ALT-DESC;FMTTYPE=text/html:Come share in the exciting ribbon cutting of The Original Mattress Factory - Riverdale!
LOCATION:The Original Mattress Factory - Riverdale 13025 Riverdale Dr. Ste. # 200 Coon Rapids\, MN 55448
UID:e.380.146224
SEQUENCE:3
DTSTAMP:20260425T114203Z
URL:http://members.metronorthchamber.org/events/details/ribbon-cutting-for-the-original-mattress-factory-riverdale-09-18-2012-146224
END:VEVENT

END:VCALENDAR
