BEGIN:VCALENDAR
VERSION:2.0
PRODID:-//ChamberMaster//Event Calendar 2.0//EN
METHOD:PUBLISH
X-PUBLISHED-TTL:P3D
REFRESH-INTERVAL:P3D
CALSCALE:GREGORIAN
BEGIN:VEVENT
DTSTART:20190207T150000Z
DTEND:20190207T153000Z
X-MICROSOFT-CDO-ALLDAYEVENT:FALSE
SUMMARY:Ribbon Cutting for The Healthy Boulevard
DESCRIPTION:Join us in welcoming the Healthy Boulevard to the MetroNorth Chamber. Try some delicious sample shakes and treats! Ribbon cut at 9:15am.
X-ALT-DESC;FMTTYPE=text/html:Join us in welcoming the Healthy Boulevard to the MetroNorth Chamber.&nbsp\;Try some delicious sample shakes and treats! Ribbon cut at 9:15am.
LOCATION:The Healthy Boulevard 12475 Riverdale Boulevard\, Suite F Coon Rapids 55433
UID:e.380.187884
SEQUENCE:3
DTSTAMP:20260420T074205Z
URL:http://members.metronorthchamber.org/events/details/ribbon-cutting-for-the-healthy-boulevard-187884
END:VEVENT

END:VCALENDAR
