BEGIN:VCALENDAR
VERSION:2.0
PRODID:-//ChamberMaster//Event Calendar 2.0//EN
METHOD:PUBLISH
X-PUBLISHED-TTL:P3D
REFRESH-INTERVAL:P3D
CALSCALE:GREGORIAN
BEGIN:VEVENT
DTSTART:20190919T230000Z
DTEND:20190920T000000Z
X-MICROSOFT-CDO-ALLDAYEVENT:FALSE
SUMMARY:Ribbon Cutting for Sunrise Elementary
DESCRIPTION:Join us for ice cream\, tours and a ribbon cutting for the brand new Sunrise Elementary School in Blaine!
X-ALT-DESC;FMTTYPE=text/html:Join us for ice cream\, tours and a ribbon cutting for the brand new Sunrise Elementary School in Blaine!&nbsp\;
LOCATION:12576 Lever Street NE Blaine 55449
UID:e.380.191160
SEQUENCE:3
DTSTAMP:20260419T193051Z
URL:http://members.metronorthchamber.org/events/details/ribbon-cutting-for-sunrise-elementary-191160
END:VEVENT

END:VCALENDAR
