BEGIN:VCALENDAR
VERSION:2.0
PRODID:-//ChamberMaster//Event Calendar 2.0//EN
METHOD:PUBLISH
X-PUBLISHED-TTL:P3D
REFRESH-INTERVAL:P3D
CALSCALE:GREGORIAN
BEGIN:VEVENT
DTSTART:20130425T133000Z
DTEND:20130426T023000Z
X-MICROSOFT-CDO-ALLDAYEVENT:FALSE
SUMMARY:Ribbon Cutting for Savers
DESCRIPTION:Please join us for the Ribbon Cutting and Grand Opening of Savers in Coon Rapids!  The cutting of the ribbon will take place promptly at 8:30 a.m.  The store opens for business at 9 a.m.
X-ALT-DESC;FMTTYPE=text/html:Please join us for the Ribbon Cutting and Grand Opening of Savers in Coon Rapids!&nbsp\; The cutting&nbsp\;of the ribbon will take place promptly at 8:30 a.m.&nbsp\; The store opens for business at 9 a.m.&nbsp\;&nbsp\;&nbsp\;&nbsp\;&nbsp\;
LOCATION:Savers 60 Coon Rapids Blvd. Coon Rapids\, MN 55448
UID:e.380.148629
SEQUENCE:3
DTSTAMP:20260425T002131Z
URL:http://members.metronorthchamber.org/events/details/ribbon-cutting-for-savers-04-25-2013-148629
END:VEVENT

END:VCALENDAR
