BEGIN:VCALENDAR
VERSION:2.0
PRODID:-//ChamberMaster//Event Calendar 2.0//EN
METHOD:PUBLISH
X-PUBLISHED-TTL:P3D
REFRESH-INTERVAL:P3D
CALSCALE:GREGORIAN
BEGIN:VEVENT
DTSTART:20191030T170000Z
DTEND:20191030T180000Z
X-MICROSOFT-CDO-ALLDAYEVENT:FALSE
SUMMARY:Ribbon Cutting for Sarah Grace Photography
DESCRIPTION:Join us in celebrating with Sarah Filipi on the 10 year anniversary of Sarah Grace Photography\, LLC!  Come see the studio and enjoy some snacks and bubbly. There will be samples to check out\, referral cards worth $25 for you and your friends\, and a drawing for a complimentary photo session!
X-ALT-DESC;FMTTYPE=text/html:Join us in celebrating with Sarah Filipi on the 10 year anniversary of Sarah Grace Photography\, LLC!&nbsp\; Come see the studio and enjoy some snacks and bubbly. There will be samples to check out\, referral cards worth $25 for you and your friends\, and a drawing for a complimentary photo session!
LOCATION:3364 117th Lane NE Blaine 55449
UID:e.380.191459
SEQUENCE:3
DTSTAMP:20260419T180724Z
URL:http://members.metronorthchamber.org/events/details/ribbon-cutting-for-sarah-grace-photography-191459
END:VEVENT

END:VCALENDAR
