BEGIN:VCALENDAR
VERSION:2.0
PRODID:-//ChamberMaster//Event Calendar 2.0//EN
METHOD:PUBLISH
X-PUBLISHED-TTL:P3D
REFRESH-INTERVAL:P3D
CALSCALE:GREGORIAN
BEGIN:VEVENT
DTSTART:20131125T220000Z
DTEND:20131125T223000Z
X-MICROSOFT-CDO-ALLDAYEVENT:FALSE
SUMMARY:Ribbon Cutting for Sandy's Auto Service
DESCRIPTION:Please join us in celebrating the ribbon cutting and grand opening of Sandy's Auto Service!\n\n	 \n\n	This ribbon cutting will take place promptly at 4 pm.\n\n	Monday\, November 25th\, 2013\n\n	Sandy's Auto Service\n\n	2690 Coon Rapids Blvd.\n\n	Coon Rapids\, MN 55433\n\n	 \n\n	Ambassador Team 1
X-ALT-DESC;FMTTYPE=text/html:<div style="color: gray">\n	<span style="color:#000080\;"><span style="font-size: 12px\;">Please join us in celebrating the ribbon cutting and grand opening of Sandy&rsquo\;s Auto Service!<br />\n	&nbsp\;<br />\n	<strong>This ribbon cutting will take place promptly at 4 pm.</strong><br />\n	Monday\, November 25<sup>th</sup>\, 2013<br />\n	Sandy&rsquo\;s Auto Service<br />\n	2690 Coon Rapids Blvd.<br />\n	Coon Rapids\, MN 55433<br />\n	&nbsp\;<br />\n	Ambassador Team 1</span></span></div>\n
LOCATION:Sandy's Auto Service 2690 Coon Rapids Blvd. Coon Rapids\, MN 55433
UID:e.380.149855
SEQUENCE:3
DTSTAMP:20260424T124710Z
URL:http://members.metronorthchamber.org/events/details/ribbon-cutting-for-sandy-s-auto-service-11-25-2013-149855
END:VEVENT

END:VCALENDAR
