BEGIN:VCALENDAR
VERSION:2.0
PRODID:-//ChamberMaster//Event Calendar 2.0//EN
METHOD:PUBLISH
X-PUBLISHED-TTL:P3D
REFRESH-INTERVAL:P3D
CALSCALE:GREGORIAN
BEGIN:VEVENT
DTSTART:20120606T200000Z
DTEND:20120606T210000Z
X-MICROSOFT-CDO-ALLDAYEVENT:FALSE
SUMMARY:Ribbon Cutting for Relieve Medical Supply
DESCRIPTION:Come celebrate the ribbon cutting of Relieve Medical Supply!\n		\n			This ribbon cutting at 3 p.m. will kick off their 3-day grand opening celebration with snacks and drinks\, lots of giveaways and an assortment of activities!
X-ALT-DESC;FMTTYPE=text/html:<div style="color: gray">\n	<div>\n		<div>\n			Come celebrate the ribbon cutting of Relieve Medical Supply!</div>\n		<div>\n			This ribbon cutting at 3 p.m. will kick off their 3-day grand opening celebration with snacks and drinks\,&nbsp\;lots of giveaways and an assortment of activities!</div>\n	</div>\n</div>\n
LOCATION:Relieve Medical - 11490 Hanson Blvd. NW\, Coon Rapids\, MN 55433Click here to edit...
UID:e.380.143810
SEQUENCE:3
DTSTAMP:20260425T162011Z
URL:http://members.metronorthchamber.org/events/details/ribbon-cutting-for-relieve-medical-supply-06-06-2012-143810
END:VEVENT

END:VCALENDAR
