BEGIN:VCALENDAR
VERSION:2.0
PRODID:-//ChamberMaster//Event Calendar 2.0//EN
METHOD:PUBLISH
X-PUBLISHED-TTL:P3D
REFRESH-INTERVAL:P3D
CALSCALE:GREGORIAN
BEGIN:VEVENT
DTSTART:20130619T170000Z
DTEND:20130619T173000Z
X-MICROSOFT-CDO-ALLDAYEVENT:FALSE
SUMMARY:Ribbon Cutting for Razzl Dazzl Hair Salon
DESCRIPTION:Please join us as we celebrate the ribbon cutting of Razzl Dazzl Hair Salon!
X-ALT-DESC;FMTTYPE=text/html:Please join us as we celebrate the ribbon cutting of Razzl Dazzl Hair Salon!
LOCATION:1025 109th Ave. NE Blaine
UID:e.380.149088
SEQUENCE:3
DTSTAMP:20260424T211105Z
URL:http://members.metronorthchamber.org/events/details/ribbon-cutting-for-razzl-dazzl-hair-salon-06-19-2013-149088
END:VEVENT

END:VCALENDAR
