BEGIN:VCALENDAR
VERSION:2.0
PRODID:-//ChamberMaster//Event Calendar 2.0//EN
METHOD:PUBLISH
X-PUBLISHED-TTL:P3D
REFRESH-INTERVAL:P3D
CALSCALE:GREGORIAN
BEGIN:VEVENT
DTSTART:20121001T210000Z
DTEND:20121001T220000Z
X-MICROSOFT-CDO-ALLDAYEVENT:FALSE
SUMMARY:Ribbon Cutting for Park Dental - Riverdale
DESCRIPTION:Come celebrate with us the ribbon cutting of Park Dental - Riverdale!
X-ALT-DESC;FMTTYPE=text/html:Come celebrate with us the ribbon cutting of Park Dental - Riverdale!
LOCATION:Park Dental - Riverdale 3161 Northdale Blvd. Coon Rapids\, MN 55433
UID:e.380.146206
SEQUENCE:3
DTSTAMP:20260425T111723Z
URL:http://members.metronorthchamber.org/events/details/ribbon-cutting-for-park-dental-riverdale-10-01-2012-146206
END:VEVENT

END:VCALENDAR
