BEGIN:VCALENDAR
VERSION:2.0
PRODID:-//ChamberMaster//Event Calendar 2.0//EN
METHOD:PUBLISH
X-PUBLISHED-TTL:P3D
REFRESH-INTERVAL:P3D
CALSCALE:GREGORIAN
BEGIN:VEVENT
DTSTART:20130614T163000Z
DTEND:20130614T180000Z
X-MICROSOFT-CDO-ALLDAYEVENT:FALSE
SUMMARY:Ribbon Cutting for Park Dental Coon Rapids
DESCRIPTION:Please come join us as we celebrate the ribbon cutting of Park Dental of Coon Rapids at noon!  Celebration from 11:30am-1pm. The cutting of the ribbon will take place promptly at noon.  Complimentary lunch provided.
X-ALT-DESC;FMTTYPE=text/html:Please come join us as we celebrate the ribbon cutting of Park Dental of Coon Rapids at noon!&nbsp\; Celebration from 11:30am-1pm. The cutting of the ribbon will take place promptly at noon.&nbsp\; Complimentary lunch provided.
LOCATION:Park Dental Coon Rapids 9145 Springbrook Dr. Ste # 100 Coon Rapids\, MN 55433
UID:e.380.148723
SEQUENCE:3
DTSTAMP:20260424T210809Z
URL:http://members.metronorthchamber.org/events/details/ribbon-cutting-for-park-dental-coon-rapids-06-14-2013-148723
END:VEVENT

END:VCALENDAR
