BEGIN:VCALENDAR
VERSION:2.0
PRODID:-//ChamberMaster//Event Calendar 2.0//EN
METHOD:PUBLISH
X-PUBLISHED-TTL:P3D
REFRESH-INTERVAL:P3D
CALSCALE:GREGORIAN
BEGIN:VEVENT
DTSTART:20130820T210000Z
DTEND:20130820T213000Z
X-MICROSOFT-CDO-ALLDAYEVENT:FALSE
SUMMARY:Ribbon Cutting for Papa John's
DESCRIPTION:Come celebrate with us the new ownership and ribbon cutting of Papa John's Pizza in Blaine!  Come enjoy one of their 1\,000 FREE slices with us in their party tent.
X-ALT-DESC;FMTTYPE=text/html:Come celebrate with us the new ownership and ribbon cutting of Papa John&#39\;s Pizza in Blaine!&nbsp\; Come enjoy one of their 1\,000 FREE slices with us in their party tent.
LOCATION:479 87th Lane NE Blaine\, MN 55434
UID:e.380.149302
SEQUENCE:3
DTSTAMP:20260424T175637Z
URL:http://members.metronorthchamber.org/events/details/ribbon-cutting-for-papa-john-s-08-20-2013-149302
END:VEVENT

END:VCALENDAR
