BEGIN:VCALENDAR
VERSION:2.0
PRODID:-//ChamberMaster//Event Calendar 2.0//EN
METHOD:PUBLISH
X-PUBLISHED-TTL:P3D
REFRESH-INTERVAL:P3D
CALSCALE:GREGORIAN
BEGIN:VEVENT
DTSTART:20120706T140000Z
DTEND:20120706T143000Z
X-MICROSOFT-CDO-ALLDAYEVENT:FALSE
SUMMARY:Ribbon Cutting for N2 Publishing (at Sunrise)
DESCRIPTION:Come celebrate with us the ribbon cutting of new business N2 Publishing!  Immediately following July's first Friday Sunrise.  Enter to win a 1/4 page one month ad!
X-ALT-DESC;FMTTYPE=text/html:Come celebrate with us the&nbsp\;ribbon cutting of new business N2 Publishing!&nbsp\;&nbsp\;Immediately following July&#39\;s first Friday&nbsp\;Sunrise.&nbsp\;&nbsp\;Enter to win a&nbsp\;1/4 page&nbsp\;one month ad!&nbsp\;&nbsp\;
LOCATION:Perkins Restaurant & Bakery 12545 Ulysses St. NE Blaine
UID:e.380.144723
SEQUENCE:3
DTSTAMP:20260425T143233Z
URL:http://members.metronorthchamber.org/events/details/ribbon-cutting-for-n2-publishing-at-sunrise-07-06-2012-144723
END:VEVENT

END:VCALENDAR
