BEGIN:VCALENDAR
VERSION:2.0
PRODID:-//ChamberMaster//Event Calendar 2.0//EN
METHOD:PUBLISH
X-PUBLISHED-TTL:P3D
REFRESH-INTERVAL:P3D
CALSCALE:GREGORIAN
BEGIN:VEVENT
DTSTART:20190612T220000Z
DTEND:20190612T230000Z
X-MICROSOFT-CDO-ALLDAYEVENT:FALSE
SUMMARY:Ribbon Cutting for Minnesota Star Martial Arts
DESCRIPTION:Come celebrate the grand reopening and ribbon cutting of new member Minnesota Star Martial Arts. Tours and beverages will be available. Ribbon will be cut at 5:15 pm.
X-ALT-DESC;FMTTYPE=text/html:Come celebrate the grand reopening and ribbon cutting of new member Minnesota Star Martial Arts. Tours and beverages will be available. Ribbon will be cut at 5:15 pm.
LOCATION:Minnesota Star Martial Arts 3015 Coon Rapids Boulevard Coon Rapids 55433
UID:e.380.189483
SEQUENCE:3
DTSTAMP:20260420T003921Z
URL:http://members.metronorthchamber.org/events/details/ribbon-cutting-for-minnesota-star-martial-arts-189483
END:VEVENT

END:VCALENDAR
