BEGIN:VCALENDAR
VERSION:2.0
PRODID:-//ChamberMaster//Event Calendar 2.0//EN
METHOD:PUBLISH
X-PUBLISHED-TTL:P3D
REFRESH-INTERVAL:P3D
CALSCALE:GREGORIAN
BEGIN:VEVENT
DTSTART:20190610T210000Z
DTEND:20190610T220000Z
X-MICROSOFT-CDO-ALLDAYEVENT:FALSE
SUMMARY:Ribbon Cutting for Minnesota School of Music
DESCRIPTION:Minnesota School of Music has much to celebrate! June marks their 5 year anniversary\, they have a new name\, and a grand re-opening after expanding their school earlier this year. Come help us celebrate these milestones. Ribbon will be cut at 4:15 pm and light refreshments will be served.
X-ALT-DESC;FMTTYPE=text/html:Minnesota School of Music has much to celebrate! June marks their 5 year anniversary\, they have a new name\, and a grand re-opening after expanding their school earlier this year. Come help us celebrate these milestones. Ribbon will be cut at 4:15 pm and light refreshments will be served.
LOCATION:Minnesota School of Music 3533 88th Avenue NE Blaine 55014
UID:e.380.188964
SEQUENCE:3
DTSTAMP:20260420T003047Z
URL:http://members.metronorthchamber.org/events/details/ribbon-cutting-for-minnesota-school-of-music-188964
END:VEVENT

END:VCALENDAR
