BEGIN:VCALENDAR
VERSION:2.0
PRODID:-//ChamberMaster//Event Calendar 2.0//EN
METHOD:PUBLISH
X-PUBLISHED-TTL:P3D
REFRESH-INTERVAL:P3D
CALSCALE:GREGORIAN
BEGIN:VEVENT
DTSTART:20140916T170000Z
DTEND:20140916T173000Z
X-MICROSOFT-CDO-ALLDAYEVENT:FALSE
SUMMARY:Ribbon Cutting for Minnesota Guitar Academy
DESCRIPTION:Please come celebrate with us the Grand Opening and Ribbon Cutting of Minnesota Guitar Academy!
X-ALT-DESC;FMTTYPE=text/html:Please come celebrate with us the Grand Opening and Ribbon Cutting of Minnesota Guitar Academy!
LOCATION:Minnesota Guitar Academy 3529 88th Ave. NE Blaine\, MN 55014
UID:e.380.151561
SEQUENCE:3
DTSTAMP:20260423T235139Z
URL:http://members.metronorthchamber.org/events/details/ribbon-cutting-for-minnesota-guitar-academy-09-16-2014-151561
END:VEVENT

END:VCALENDAR
