BEGIN:VCALENDAR
VERSION:2.0
PRODID:-//ChamberMaster//Event Calendar 2.0//EN
METHOD:PUBLISH
X-PUBLISHED-TTL:P3D
REFRESH-INTERVAL:P3D
CALSCALE:GREGORIAN
BEGIN:VEVENT
DTSTART:20191001T163000Z
DTEND:20191001T180000Z
X-MICROSOFT-CDO-ALLDAYEVENT:FALSE
SUMMARY:Ribbon Cutting for MetroNorth Chamber of Commerce
DESCRIPTION:Come celebrate our remodel! We recently did a refresh to our offices in the 21st Century Bank building\, and would love to have you join us for a ribbon cutting in celebration of our new look! Ribbon cut at 12:15 pm.
X-ALT-DESC;FMTTYPE=text/html:Come celebrate our remodel! We recently did a refresh to our offices in the 21st Century Bank building\, and would love to have you join us for a ribbon cutting in celebration of our new look! Ribbon cut at 12:15 pm.
LOCATION:MetroNorth Chamber of Commerce 21st Century Bank Building 9380 Central Avenue NE\, Suite 320 Blaine 55434
UID:e.380.191158
SEQUENCE:3
DTSTAMP:20260419T180828Z
URL:http://members.metronorthchamber.org/events/details/ribbon-cutting-for-metronorth-chamber-of-commerce-191158
END:VEVENT

END:VCALENDAR
