BEGIN:VCALENDAR
VERSION:2.0
PRODID:-//ChamberMaster//Event Calendar 2.0//EN
METHOD:PUBLISH
X-PUBLISHED-TTL:P3D
REFRESH-INTERVAL:P3D
CALSCALE:GREGORIAN
BEGIN:VEVENT
DTSTART:20131001T210000Z
DTEND:20131001T213000Z
X-MICROSOFT-CDO-ALLDAYEVENT:FALSE
SUMMARY:Ribbon Cutting for Metro Wine & Spirits
DESCRIPTION:Please come celebrate with us the ribbon cutting and grand opening of Metro Wine & Spirits!\n\n\n\nThe ribbon cutting will take place promptly at 4 pm.\n\n\n\nAmbassador Team 1
X-ALT-DESC;FMTTYPE=text/html:Please come celebrate with us the ribbon cutting and grand opening of Metro Wine &amp\; Spirits!<br />\n<br />\nThe ribbon cutting will take place promptly at 4 pm.<br />\n<br />\nAmbassador Team 1
LOCATION:6013 Hodgson Rd. Lino Lakes
UID:e.380.149657
SEQUENCE:3
DTSTAMP:20260424T144024Z
URL:http://members.metronorthchamber.org/events/details/ribbon-cutting-for-metro-wine-spirits-10-01-2013-149657
END:VEVENT

END:VCALENDAR
