BEGIN:VCALENDAR
VERSION:2.0
PRODID:-//ChamberMaster//Event Calendar 2.0//EN
METHOD:PUBLISH
X-PUBLISHED-TTL:P3D
REFRESH-INTERVAL:P3D
CALSCALE:GREGORIAN
BEGIN:VEVENT
DTSTART:20130923T170000Z
DTEND:20130923T173000Z
X-MICROSOFT-CDO-ALLDAYEVENT:FALSE
SUMMARY:Ribbon Cutting for Metro DentalCare - Hwy 65
DESCRIPTION:Please come celebrate with us the newest Blaine location of Metro DentalCare! \n\n\n\nThe ribbon cutting will take place promptly at noon.
X-ALT-DESC;FMTTYPE=text/html:Please come celebrate with us the newest Blaine location of Metro DentalCare!&nbsp\;<br />\n<br />\nThe ribbon cutting will take place promptly at noon.&nbsp\; &nbsp\;
LOCATION:Metro DentalCare - Hwy 65 10904 Baltimore St. NE Ste # 100 Blaine
UID:e.380.149490
SEQUENCE:3
DTSTAMP:20260424T162654Z
URL:http://members.metronorthchamber.org/events/details/ribbon-cutting-for-metro-dentalcare-hwy-65-09-23-2013-149490
END:VEVENT

END:VCALENDAR
