BEGIN:VCALENDAR
VERSION:2.0
PRODID:-//ChamberMaster//Event Calendar 2.0//EN
METHOD:PUBLISH
X-PUBLISHED-TTL:P3D
REFRESH-INTERVAL:P3D
CALSCALE:GREGORIAN
BEGIN:VEVENT
DTSTART:20191015T210000Z
DTEND:20191015T220000Z
X-MICROSOFT-CDO-ALLDAYEVENT:FALSE
SUMMARY:Ribbon Cutting for Mathnasium
DESCRIPTION:Join us for a ribbon cutting to celebrate the new location of Mathnasium! Refreshments will be served\; ribbon cut at 4:15 pm.
X-ALT-DESC;FMTTYPE=text/html:Join us for a ribbon cutting to celebrate the new location of Mathnasium! Refreshments will be served\; ribbon cut at 4:15 pm.
LOCATION:1548 125th Avenue NE Blaine 55449
UID:e.380.191411
SEQUENCE:3
DTSTAMP:20260419T180023Z
URL:http://members.metronorthchamber.org/events/details/ribbon-cutting-for-mathnasium-191411
END:VEVENT

END:VCALENDAR
