BEGIN:VCALENDAR
VERSION:2.0
PRODID:-//ChamberMaster//Event Calendar 2.0//EN
METHOD:PUBLISH
X-PUBLISHED-TTL:P3D
REFRESH-INTERVAL:P3D
CALSCALE:GREGORIAN
BEGIN:VEVENT
DTSTART:20120827T170000Z
DTEND:20120827T173000Z
X-MICROSOFT-CDO-ALLDAYEVENT:FALSE
SUMMARY:Ribbon Cutting for Mama Valenti's Pizzeria
DESCRIPTION:Come celebrate the 2 year anniversary and ribbon cutting of Mama Valenti's Pizzeria!  They are a four generation family business named after the owner's Great-Great-Grandma Rose Valenti.
X-ALT-DESC;FMTTYPE=text/html:Come celebrate the 2 year anniversary and ribbon cutting of Mama Valenti&#39\;s Pizzeria!&nbsp\; They are a four generation family business named after the owner&#39\;s Great-Great-Grandma Rose Valenti.&nbsp\; 
LOCATION:Mama Valenti's 2244 Bunker Lk. Blvd. Andover\, MN 55304
UID:e.380.146174
SEQUENCE:3
DTSTAMP:20260425T125704Z
URL:http://members.metronorthchamber.org/events/details/ribbon-cutting-for-mama-valenti-s-pizzeria-08-27-2012-146174
END:VEVENT

END:VCALENDAR
