BEGIN:VCALENDAR
VERSION:2.0
PRODID:-//ChamberMaster//Event Calendar 2.0//EN
METHOD:PUBLISH
X-PUBLISHED-TTL:P3D
REFRESH-INTERVAL:P3D
CALSCALE:GREGORIAN
BEGIN:VEVENT
DTSTART:20131009T210000Z
DTEND:20131009T213000Z
X-MICROSOFT-CDO-ALLDAYEVENT:FALSE
SUMMARY:Ribbon Cutting for Lillians of Blaine
DESCRIPTION:Come celebrate the ribbon cutting and one year anniversary of Lillians of Blaine!\n\n\n\nThis ribbon cutting will be held promptly at 4 pm. \n\nAmbassador Team 2
X-ALT-DESC;FMTTYPE=text/html:Come celebrate the ribbon cutting and one year anniversary of Lillians of Blaine!<br />\n<br />\nThis ribbon cutting will be held promptly at 4 pm.&nbsp\;<br />\nAmbassador Team 2
LOCATION:Lillians of Blaine 10950 Club West Pkwy. Ste # 120 Blaine\, MN 55449
UID:e.380.149511
SEQUENCE:3
DTSTAMP:20260424T145329Z
URL:http://members.metronorthchamber.org/events/details/ribbon-cutting-for-lillians-of-blaine-10-09-2013-149511
END:VEVENT

END:VCALENDAR
