BEGIN:VCALENDAR
VERSION:2.0
PRODID:-//ChamberMaster//Event Calendar 2.0//EN
METHOD:PUBLISH
X-PUBLISHED-TTL:P3D
REFRESH-INTERVAL:P3D
CALSCALE:GREGORIAN
BEGIN:VEVENT
DTSTART:20140722T210000Z
DTEND:20140722T220000Z
X-MICROSOFT-CDO-ALLDAYEVENT:FALSE
SUMMARY:Ribbon Cutting for Life Style Fitness
DESCRIPTION:Please come celebrate with us the ribbon cutting of Life Style Fitness!
X-ALT-DESC;FMTTYPE=text/html:Please come celebrate with us the ribbon cutting of Life Style Fitness!
LOCATION:13735 Round Lake Blvd. NW Andover\, MN 55304
UID:e.380.151422
SEQUENCE:3
DTSTAMP:20260423T235823Z
URL:http://members.metronorthchamber.org/events/details/ribbon-cutting-for-life-style-fitness-07-22-2014-151422
END:VEVENT

END:VCALENDAR
