BEGIN:VCALENDAR
VERSION:2.0
PRODID:-//ChamberMaster//Event Calendar 2.0//EN
METHOD:PUBLISH
X-PUBLISHED-TTL:P3D
REFRESH-INTERVAL:P3D
CALSCALE:GREGORIAN
BEGIN:VEVENT
DTSTART:20131114T220000Z
DTEND:20131114T223000Z
X-MICROSOFT-CDO-ALLDAYEVENT:FALSE
SUMMARY:Ribbon Cutting for LA Fitness - Blaine
DESCRIPTION:Please come celebrate with us the grand opening and ribbon cutting of LA Fitness of Blaine! \n\n\n\nThis ribbon cutting will be held promptly at 4 p.m.\n\n\n\nAmbassador Team 2
X-ALT-DESC;FMTTYPE=text/html:Please come celebrate with us the grand opening and ribbon cutting of LA Fitness of Blaine!&nbsp\;<br />\n<br />\nThis ribbon cutting will be held promptly at 4 p.m.<br />\n<br />\nAmbassador Team 2<br />\n<br />\n
LOCATION:LA Fitness - Blaine 100 Northtown Drive NE Blaine
UID:e.380.149706
SEQUENCE:3
DTSTAMP:20260424T125311Z
URL:http://members.metronorthchamber.org/events/details/ribbon-cutting-for-la-fitness-blaine-11-14-2013-149706
END:VEVENT

END:VCALENDAR
