BEGIN:VCALENDAR
VERSION:2.0
PRODID:-//ChamberMaster//Event Calendar 2.0//EN
METHOD:PUBLISH
X-PUBLISHED-TTL:P3D
REFRESH-INTERVAL:P3D
CALSCALE:GREGORIAN
BEGIN:VEVENT
DTSTART:20191218T160000Z
DTEND:20191218T180000Z
X-MICROSOFT-CDO-ALLDAYEVENT:FALSE
SUMMARY:Ribbon Cutting for Kwik Trip Blaine
DESCRIPTION:Grand opening and ribbon cutting ceremony to celebrate the new Kwik Trip in Blaine. There will be treats to sample and the ribbon will be cut at 11:00 am.
X-ALT-DESC;FMTTYPE=text/html:Grand opening and ribbon cutting ceremony to celebrate the new Kwik Trip in Blaine. There will be treats to sample and the ribbon will be cut at 11:00 am.
LOCATION:11736 Ulysses Lane NW Blaine 55449
UID:e.380.191602
SEQUENCE:3
DTSTAMP:20260419T142510Z
URL:http://members.metronorthchamber.org/events/details/ribbon-cutting-for-kwik-trip-blaine-191602
END:VEVENT

END:VCALENDAR
