BEGIN:VCALENDAR
VERSION:2.0
PRODID:-//ChamberMaster//Event Calendar 2.0//EN
METHOD:PUBLISH
X-PUBLISHED-TTL:P3D
REFRESH-INTERVAL:P3D
CALSCALE:GREGORIAN
BEGIN:VEVENT
DTSTART:20131220T150000Z
DTEND:20131220T153000Z
X-MICROSOFT-CDO-ALLDAYEVENT:FALSE
SUMMARY:Ribbon Cutting for Kimberly Laine LLC
DESCRIPTION:Please come celebrate with us the ribbon cutting of Kimberly Laine LLC.  This ribbon cutting will be held promptly at 9 a.m. at Moe's Restaurant in Mounds View\, immediately following Sunrise.
X-ALT-DESC;FMTTYPE=text/html:Please come celebrate with us the ribbon cutting of Kimberly Laine LLC.&nbsp\; This ribbon cutting will be held promptly at 9 a.m. at Moe&#39\;s Restaurant in Mounds View\, immediately following Sunrise.
LOCATION:Moe's Restaurant 2400 Hwy 10 Mounds View
UID:e.380.149892
SEQUENCE:3
DTSTAMP:20260424T111528Z
URL:http://members.metronorthchamber.org/events/details/ribbon-cutting-for-kimberly-laine-llc-12-20-2013-149892
END:VEVENT

END:VCALENDAR
