BEGIN:VCALENDAR
VERSION:2.0
PRODID:-//ChamberMaster//Event Calendar 2.0//EN
METHOD:PUBLISH
X-PUBLISHED-TTL:P3D
REFRESH-INTERVAL:P3D
CALSCALE:GREGORIAN
BEGIN:VEVENT
DTSTART:20190626T154500Z
DTEND:20190626T160000Z
X-MICROSOFT-CDO-ALLDAYEVENT:FALSE
SUMMARY:Ribbon Cutting for Katie Krause\, SeneGence
DESCRIPTION:Join us in welcoming Katie Krause of SeneGence to the MetroNorth Chamber! Ribbon will be cut immediately following our Working With Women networking event.
X-ALT-DESC;FMTTYPE=text/html:Join us in welcoming Katie Krause of SeneGence to the MetroNorth Chamber! Ribbon will be cut immediately following our Working With Women networking event.
LOCATION:Working With Women SBM Fire Station 3 11920 Ulysses Street NE Blaine 55434
UID:e.380.188987
SEQUENCE:3
DTSTAMP:20260420T003728Z
URL:http://members.metronorthchamber.org/events/details/ribbon-cutting-for-katie-krause-senegence-188987
END:VEVENT

END:VCALENDAR
