BEGIN:VCALENDAR
VERSION:2.0
PRODID:-//ChamberMaster//Event Calendar 2.0//EN
METHOD:PUBLISH
X-PUBLISHED-TTL:P3D
REFRESH-INTERVAL:P3D
CALSCALE:GREGORIAN
BEGIN:VEVENT
DTSTART:20130612T143000Z
DTEND:20130612T150000Z
X-MICROSOFT-CDO-ALLDAYEVENT:FALSE
SUMMARY:Ribbon Cutting for Jersey Mike's NEW Location in Blaine
DESCRIPTION:Please join us as we celebrate the Grand Opening and Ribbon Cutting of Jersey Mike's NEW Blaine location!!\n\n\n\nRibbon Cutting to take place promptly at 9:30 a.m.
X-ALT-DESC;FMTTYPE=text/html:Please join us as we celebrate the Grand Opening and Ribbon Cutting of Jersey Mike&#39\;s NEW Blaine location!!<br />\n<br />\n<strong><span style="color: #ff0000">Ribbon Cutting to take place promptly at 9:30 a.m.</span></strong>
LOCATION:10340 Baltimore St. NE Ste # 150 Blaine\, MN 55449
UID:e.380.149101
SEQUENCE:3
DTSTAMP:20260424T211104Z
URL:http://members.metronorthchamber.org/events/details/ribbon-cutting-for-jersey-mike-s-new-location-in-blaine-06-12-2013-149101
END:VEVENT

END:VCALENDAR
