BEGIN:VCALENDAR
VERSION:2.0
PRODID:-//ChamberMaster//Event Calendar 2.0//EN
METHOD:PUBLISH
X-PUBLISHED-TTL:P3D
REFRESH-INTERVAL:P3D
CALSCALE:GREGORIAN
BEGIN:VEVENT
DTSTART:20140425T210000Z
DTEND:20140425T213000Z
X-MICROSOFT-CDO-ALLDAYEVENT:FALSE
SUMMARY:Ribbon Cutting for INI Bodywork & Wellness
DESCRIPTION:Come celebrate with us the ribbon cutting\, anniversary and open house of INI Bodywork and Wellness!
X-ALT-DESC;FMTTYPE=text/html:Come celebrate with us the ribbon cutting\, anniversary and open house of INI Bodywork and Wellness!&nbsp\;
LOCATION:INI Bodywork & Wellness 1061 109th Ave NE\, Suite D Blaine\, MN 55434
UID:e.380.151260
SEQUENCE:3
DTSTAMP:20260424T044328Z
URL:http://members.metronorthchamber.org/events/details/ribbon-cutting-for-ini-bodywork-wellness-04-25-2014-151260
END:VEVENT

END:VCALENDAR
