BEGIN:VCALENDAR
VERSION:2.0
PRODID:-//ChamberMaster//Event Calendar 2.0//EN
METHOD:PUBLISH
X-PUBLISHED-TTL:P3D
REFRESH-INTERVAL:P3D
CALSCALE:GREGORIAN
BEGIN:VEVENT
DTSTART:20120629T200000Z
DTEND:20120629T210000Z
X-MICROSOFT-CDO-ALLDAYEVENT:FALSE
SUMMARY:Ribbon Cutting for Immure Records
DESCRIPTION:Celebrate the ribbon cutting of Immure Records!  Open House lasts until 5 p.m.
X-ALT-DESC;FMTTYPE=text/html:Celebrate the ribbon cutting of Immure Records!&nbsp\;&nbsp\;Open House lasts&nbsp\;until 5 p.m.
LOCATION:Immure Records 1740 130th Ave. NE Blaine\, MN 55449
UID:e.380.144077
SEQUENCE:3
DTSTAMP:20260425T161819Z
URL:http://members.metronorthchamber.org/events/details/ribbon-cutting-for-immure-records-06-29-2012-144077
END:VEVENT

END:VCALENDAR
