BEGIN:VCALENDAR
VERSION:2.0
PRODID:-//ChamberMaster//Event Calendar 2.0//EN
METHOD:PUBLISH
X-PUBLISHED-TTL:P3D
REFRESH-INTERVAL:P3D
CALSCALE:GREGORIAN
BEGIN:VEVENT
DTSTART:20140723T154500Z
DTEND:20140723T161500Z
X-MICROSOFT-CDO-ALLDAYEVENT:FALSE
SUMMARY:Ribbon Cutting for Iceberg Web Design
DESCRIPTION:Please come celebrate with us the ribbon cutting for Iceberg Web Design!  This ribbon cutting will take place at 10:45 a.m.\, immediately following Working with Women.    \n\n  \nIceberg Web Design is a leading website development company based in Anoka\, Minnesota. We specialize in custom website design\, website hosting\, e-commerce\, WordPress\, responsive design and SEO. This has been a very exciting year for us - we entered our 10th year in business this May\, and we also welcomed our first Marketing & Sales Employee at the beginning of this year. We are excited to be a part of the Metro North Chamber of Commerce\, and look forward to connecting with other local business owners through the Chamber's networking events. Contact Jessi at 763-350-8762 or Amiann at 763-301-0442 to learn more about our business\, or visit our website at www.icebergwebdesign.com to see some examples of our work.
X-ALT-DESC;FMTTYPE=text/html:Please come celebrate with us the ribbon cutting for Iceberg Web Design!&nbsp\; This ribbon cutting will take place at 10:45 a.m.\, immediately following Working with Women.&nbsp\;&nbsp\;&nbsp\;&nbsp\;<br />\n&nbsp\;&nbsp\;\n<p style="margin: 0in 0in 0pt\;"><font color="#000000" face="Times New Roman" size="3">Iceberg Web Design is a leading website development company based in Anoka\, Minnesota. We specialize in custom website design\, website hosting\, e-commerce\, WordPress\, responsive design and SEO. This has been a very exciting year for us - we entered our 10th year in business this May\, and we also welcomed our first Marketing &amp\; Sales Employee at the beginning of this year. We are excited to be a part of the Metro North Chamber of Commerce\, and look forward to connecting with other local business owners through the Chamber&#39\;s networking events. Contact Jessi at 763-350-8762 or Amiann at 763-301-0442 to learn more about our business\, or visit our website at&nbsp\;</font><a href="http://www.icebergwebdesign.com/" target="_blank"><font color="#0000ff" face="Times New Roman" size="3">www.icebergwebdesign.com</font></a><font color="#000000" face="Times New Roman" size="3">&nbsp\;to see some examples of our work.</font></p>\n
LOCATION:Rasmussen College 3629 95th Ave. NE Blaine
UID:e.380.151428
SEQUENCE:3
DTSTAMP:20260423T234709Z
URL:http://members.metronorthchamber.org/events/details/ribbon-cutting-for-iceberg-web-design-07-23-2014-151428
END:VEVENT

END:VCALENDAR
