BEGIN:VCALENDAR
VERSION:2.0
PRODID:-//ChamberMaster//Event Calendar 2.0//EN
METHOD:PUBLISH
X-PUBLISHED-TTL:P3D
REFRESH-INTERVAL:P3D
CALSCALE:GREGORIAN
BEGIN:VEVENT
DTSTART:20190801T210000Z
DTEND:20190801T220000Z
X-MICROSOFT-CDO-ALLDAYEVENT:FALSE
SUMMARY:Ribbon Cutting for House of Oilworx
DESCRIPTION:Join us for a ribbon cutting to celebrate new member House of Oilworx. A special sale for all who attend! Light snacks will be served\; ribbon cut at 4:15 pm.
X-ALT-DESC;FMTTYPE=text/html:Join us for a ribbon cutting to celebrate new member House of Oilworx. A special sale for all who attend! Light snacks will be served\; ribbon cut at 4:15 pm.
LOCATION:House of Oilworx 244 Northtown Drive NE Blaine 55434 House of Oilworx is the corner store at Center Court inside Northtown Mall. Closest entrance is Door #2 (near Hobby Lobby).
UID:e.380.190529
SEQUENCE:3
DTSTAMP:20260419T213413Z
URL:http://members.metronorthchamber.org/events/details/ribbon-cutting-for-house-of-oilworx-190529
END:VEVENT

END:VCALENDAR
