BEGIN:VCALENDAR
VERSION:2.0
PRODID:-//ChamberMaster//Event Calendar 2.0//EN
METHOD:PUBLISH
X-PUBLISHED-TTL:P3D
REFRESH-INTERVAL:P3D
CALSCALE:GREGORIAN
BEGIN:VEVENT
DTSTART:20131030T170000Z
DTEND:20131030T173000Z
X-MICROSOFT-CDO-ALLDAYEVENT:FALSE
SUMMARY:Ribbon Cutting for Hejny Chiropractic
DESCRIPTION:Please come celebrate with us the grand opening and ribbon cutting of Hejny Chiropractic! \n\n\n\nThis ribbon cutting will be held promptly at noon\,\n\n\n\nAmbassador Team 2
X-ALT-DESC;FMTTYPE=text/html:Please come celebrate with us the grand opening and ribbon cutting of Hejny Chiropractic!&nbsp\;<br />\n<br />\nThis ribbon cutting will be held promptly at noon\,<br />\n<br />\nAmbassador Team 2
LOCATION:Hejny Chiropractic 8338 Hwy 65 NE Spring Lake Park\, MN 55432
UID:e.380.149697
SEQUENCE:3
DTSTAMP:20260424T162108Z
URL:http://members.metronorthchamber.org/events/details/ribbon-cutting-for-hejny-chiropractic-10-30-2013-149697
END:VEVENT

END:VCALENDAR
