BEGIN:VCALENDAR
VERSION:2.0
PRODID:-//ChamberMaster//Event Calendar 2.0//EN
METHOD:PUBLISH
X-PUBLISHED-TTL:P3D
REFRESH-INTERVAL:P3D
CALSCALE:GREGORIAN
BEGIN:VEVENT
DTSTART:20130325T210000Z
DTEND:20130325T213000Z
X-MICROSOFT-CDO-ALLDAYEVENT:FALSE
SUMMARY:Ribbon Cutting for Grass Roots Cooperative
DESCRIPTION:Please come celebrate with us the ribbon cutting of Grass Roots Cooperative!
X-ALT-DESC;FMTTYPE=text/html:Please come celebrate with us the ribbon cutting of Grass Roots Cooperative!
LOCATION:Grass Roots Cooperative 1917 2nd Ave. So. Anoka\, MN 55303
UID:e.380.148669
SEQUENCE:3
DTSTAMP:20260425T020837Z
URL:http://members.metronorthchamber.org/events/details/ribbon-cutting-for-grass-roots-cooperative-03-25-2013-148669
END:VEVENT

END:VCALENDAR
